BEGIN:VCALENDAR
VERSION:2.0
PRODID:-//German Division Clan//NONSGML kigkonsult.se iCalcreator 2.30.10//
CALSCALE:GREGORIAN
METHOD:PUBLISH
UID:d0b0d32c-5275-4b6b-b291-475e4bf67bef
X-WR-CALNAME:iCagenda
X-WR-CALDESC:Event Management Extension for Joomla!
X-WR-RELCALID:3E26604A-50F4-4449-8B3E-E4F4932D05B5
X-WR-TIMEZONE:Europe/Berlin
BEGIN:VTIMEZONE
TZID:Europe/Berlin
BEGIN:STANDARD
TZNAME:CET
DTSTART:20161030T030000
TZOFFSETFROM:+0200
TZOFFSETTO:+0100
RDATE:20171029T030000
END:STANDARD
BEGIN:DAYLIGHT
TZNAME:CEST
DTSTART:20160327T020000
TZOFFSETFROM:+0100
TZOFFSETTO:+0200
RDATE:20170326T020000
RDATE:20180325T020000
END:DAYLIGHT
END:VTIMEZONE
BEGIN:VEVENT
UID:f9118529-99a6-4457-883f-a5c031e36e2e
DTSTAMP:20260421T095258Z
CATEGORIES:Feiertag
CLASS:PUBLIC
DESCRIPTION:
DTSTART:20170302T183000Z
DTEND:20170302T183000Z
GEO:00;0
LOCATION:
ORGANIZER:
SEQUENCE:1
SUMMARY:Mariä Himmelfahrt
TRANSP:OPAQUE
URL:https://gdclan.eu/index.php/component/icagenda/12-mariae-himmelfahrt/20
 17-03-02-19-30?Itemid=101
END:VEVENT
END:VCALENDAR
