BEGIN:VCALENDAR
VERSION:2.0
PRODID:-//German Division Clan//NONSGML kigkonsult.se iCalcreator 2.30.10//
CALSCALE:GREGORIAN
METHOD:PUBLISH
UID:d112caf4-c1af-4409-97ef-01663b344743
X-WR-CALNAME:iCagenda
X-WR-CALDESC:Event Management Extension for Joomla!
X-WR-RELCALID:3E26604A-50F4-4449-8B3E-E4F4932D05B5
X-WR-TIMEZONE:Europe/Berlin
BEGIN:VTIMEZONE
TZID:Europe/Berlin
BEGIN:STANDARD
TZNAME:CET
DTSTART:20211031T030000
TZOFFSETFROM:+0200
TZOFFSETTO:+0100
RDATE:20221030T030000
RDATE:20231029T030000
END:STANDARD
BEGIN:DAYLIGHT
TZNAME:CEST
DTSTART:20220327T020000
TZOFFSETFROM:+0100
TZOFFSETTO:+0200
RDATE:20230326T020000
END:DAYLIGHT
END:VTIMEZONE
BEGIN:VEVENT
UID:f1e519d3-84bd-4c6b-bd53-aec15a43316c
DTSTAMP:20260421T082235Z
CATEGORIES:Feiertag
CLASS:PUBLIC
DESCRIPTION:
DTSTART:20220814T220000Z
DTEND:20220814T220000Z
GEO:00;0
LOCATION:
ORGANIZER:
SEQUENCE:1
SUMMARY:Mariä Himmelfahrt
TRANSP:OPAQUE
URL:https://gdclan.eu/index.php/component/icagenda/12-mariae-himmelfahrt
END:VEVENT
END:VCALENDAR
