BEGIN:VCALENDAR
VERSION:2.0
PRODID:-//German Division Clan//NONSGML kigkonsult.se iCalcreator 2.30.10//
CALSCALE:GREGORIAN
METHOD:PUBLISH
UID:4d2ca598-49b8-4ad6-9a03-fc27fc625d00
X-WR-CALNAME:iCagenda
X-WR-CALDESC:Event Management Extension for Joomla!
X-WR-RELCALID:3E26604A-50F4-4449-8B3E-E4F4932D05B5
X-WR-TIMEZONE:Europe/Berlin
BEGIN:VTIMEZONE
TZID:Europe/Berlin
BEGIN:STANDARD
TZNAME:CET
DTSTART:20211031T030000
TZOFFSETFROM:+0200
TZOFFSETTO:+0100
RDATE:20221030T030000
RDATE:20231029T030000
END:STANDARD
BEGIN:DAYLIGHT
TZNAME:CEST
DTSTART:20220327T020000
TZOFFSETFROM:+0100
TZOFFSETTO:+0200
RDATE:20230326T020000
RDATE:20240331T020000
END:DAYLIGHT
END:VTIMEZONE
BEGIN:VEVENT
UID:b3453d7e-7126-4da3-9855-f4123b51f91a
DTSTAMP:20260421T083701Z
CATEGORIES:Feiertag
CLASS:PUBLIC
DESCRIPTION:
DTSTART:20221002T220000Z
DTEND:20221002T220000Z
GEO:00;0
LOCATION:
ORGANIZER:
SEQUENCE:1
SUMMARY:Tag der deutschen Einheit
TRANSP:OPAQUE
URL:https://gdclan.eu/index.php/component/icagenda/13-tag-der-deutschen-ein
 heit
END:VEVENT
END:VCALENDAR
